BEGIN:VCALENDAR
VERSION:2.0
PRODID:-//The Broad Place - ECPv6.1.0//NONSGML v1.0//EN
CALSCALE:GREGORIAN
METHOD:PUBLISH
X-ORIGINAL-URL:https://thebroadplace.com.au
X-WR-CALDESC:Events for The Broad Place
REFRESH-INTERVAL;VALUE=DURATION:PT1H
X-Robots-Tag:noindex
X-PUBLISHED-TTL:PT1H
BEGIN:VTIMEZONE
TZID:Australia/Sydney
BEGIN:STANDARD
TZOFFSETFROM:+1100
TZOFFSETTO:+1000
TZNAME:AEST
DTSTART:20260404T160000
END:STANDARD
BEGIN:DAYLIGHT
TZOFFSETFROM:+1000
TZOFFSETTO:+1100
TZNAME:AEDT
DTSTART:20261003T160000
END:DAYLIGHT
END:VTIMEZONE
BEGIN:VEVENT
DTSTART;TZID=Australia/Sydney:20260308T100000
DTEND;TZID=Australia/Sydney:20260308T160000
DTSTAMP:20260420T124659
CREATED:20260226T011830Z
LAST-MODIFIED:20260226T011830Z
UID:10000035-1772964000-1772985600@thebroadplace.com.au
SUMMARY:Future Appreciation Level One: THE 1% PRACTICE
DESCRIPTION:Join our Full Day Future Appreciation Level One Live Training to learn to understand yourself better\, understand how reset your system\, reconnect with yourself\, and build the inner foundation your future self will thank you for – with just 15 minutes a day. You will learn a series of different tools\, practices and resources that will be 1-6 minutes in length\, so you can rebalance\, regain your sense of self\, in small bite sized pieces throughout each day.
URL:https://thebroadplace.com.au/event/future-appreciation-level-one-the-1-practice-3/
ATTACH;FMTTYPE=image/png:https://thebroadplace.com.au/wp-content/uploads/2026/02/Event-Listing-Icons-3.png
END:VEVENT
BEGIN:VEVENT
DTSTART;TZID=Australia/Sydney:20260307T100000
DTEND;TZID=Australia/Sydney:20260307T160000
DTSTAMP:20260420T124659
CREATED:20260226T011726Z
LAST-MODIFIED:20260226T011726Z
UID:10000034-1772877600-1772899200@thebroadplace.com.au
SUMMARY:Future Appreciation Level One: THE 1% PRACTICE
DESCRIPTION:Join our Full Day Future Appreciation Level One Live Training to learn to understand yourself better\, understand how reset your system\, reconnect with yourself\, and build the inner foundation your future self will thank you for – with just 15 minutes a day. You will learn a series of different tools\, practices and resources that will be 1-6 minutes in length\, so you can rebalance\, regain your sense of self\, in small bite sized pieces throughout each day.
URL:https://thebroadplace.com.au/event/future-appreciation-level-one-the-1-practice-2/
ATTACH;FMTTYPE=image/png:https://thebroadplace.com.au/wp-content/uploads/2026/02/Event-Listing-Icons-2.png
END:VEVENT
BEGIN:VEVENT
DTSTART;TZID=Australia/Sydney:20260303T180000
DTEND;TZID=Australia/Sydney:20260305T203000
DTSTAMP:20260420T124659
CREATED:20260224T082838Z
LAST-MODIFIED:20260224T082838Z
UID:10000033-1772560800-1772742600@thebroadplace.com.au
SUMMARY:Integrated Meditation Course on Mar. 3rd - 5th\, 2026 (MILAN)
DESCRIPTION:Tuesday\, March 3rd; 6pm – 7:30pm\nWednesday\, March 4th; 6pm – 8:30pm\nThursday\, March 5th; 6pm – 8:30pm \nInvestment Fee is €680 per Single Adult. Please email info@thebroadplace.com.au to book
URL:https://thebroadplace.com.au/event/integrated-meditation-course-on-mar-3rd-5th-2026-milan/
ATTACH;FMTTYPE=image/png:https://thebroadplace.com.au/wp-content/uploads/2026/02/Event-Listing-Icons.png
END:VEVENT
BEGIN:VEVENT
DTSTART;TZID=Australia/Sydney:20260218T180000
DTEND;TZID=Australia/Sydney:20260218T184500
DTSTAMP:20260420T124659
CREATED:20251209T034529Z
LAST-MODIFIED:20260202T020207Z
UID:10000020-1771437600-1771440300@thebroadplace.com.au
SUMMARY:Integrated Meditation Monthly Live Community Call
DESCRIPTION:Once you‘ve learned Integrated Meditation from us\, you’ll receive ongoing support plus the ability to resit the course as a complimentary gift. This is a lifelong practice\, and we’re here to support you every step of the way\, alongside a like-minded community.
URL:https://thebroadplace.com.au/event/integrated-meditation-monthly-live-community-call-2/
ATTACH;FMTTYPE=image/png:https://thebroadplace.com.au/wp-content/uploads/2025/10/Event-Listing-Icons-1.png
END:VEVENT
BEGIN:VEVENT
DTSTART;TZID=Australia/Sydney:20260218T170000
DTEND;TZID=Australia/Sydney:20260218T174500
DTSTAMP:20260420T124659
CREATED:20251209T034137Z
LAST-MODIFIED:20260202T015910Z
UID:10000019-1771434000-1771436700@thebroadplace.com.au
SUMMARY:The Portal Membership Monthly Live Call
DESCRIPTION:Welcome to The Broad Place Portal—your all-in-one destination for transformative meditation practices\, inspiring courses\, and live community connections.
URL:https://thebroadplace.com.au/event/the-portal-membership-monthly-live-call-2/
ATTACH;FMTTYPE=image/png:https://thebroadplace.com.au/wp-content/uploads/2025/10/Event-Listing-Icons-4.png
END:VEVENT
BEGIN:VEVENT
DTSTART;TZID=Australia/Sydney:20260215T090000
DTEND;TZID=Australia/Sydney:20260215T100000
DTSTAMP:20260420T124659
CREATED:20260119T062846Z
LAST-MODIFIED:20260119T062957Z
UID:10000031-1771146000-1771149600@thebroadplace.com.au
SUMMARY:21 Day Meditation Challenge
DESCRIPTION:
URL:https://thebroadplace.com.au/event/21-day-meditation-challenge/
ATTACH;FMTTYPE=image/png:https://thebroadplace.com.au/wp-content/uploads/2026/01/Event-Listing-Icons.png
END:VEVENT
BEGIN:VEVENT
DTSTART;TZID=Australia/Sydney:20260131T100000
DTEND;TZID=Australia/Sydney:20260131T160000
DTSTAMP:20260420T124659
CREATED:20260112T115436Z
LAST-MODIFIED:20260115T042211Z
UID:10000023-1769853600-1769875200@thebroadplace.com.au
SUMMARY:Future Appreciation Level One: THE 1% PRACTICE
DESCRIPTION:Join our Full Day Future Appreciation Level One Live Training to learn to understand yourself better\, understand how reset your system\, reconnect with yourself\, and build the inner foundation your future self will thank you for – with just 15 minutes a day. You will learn a series of different tools\, practices and resources that will be 1-6 minutes in length\, so you can rebalance\, regain your sense of self\, in small bite sized pieces throughout each day. \nSat 31st January 10-4pm Fitzroy Melbourne\nSat 28th February 10-4pm Eastern Suburbs Sydney\nSat 11th April 10am-4pm Fitzroy Melbourne\nSun 12th April 10am-4pm Eastern Suburbs Sydney\nSat 2nd May 10-4pm Fitzroy Melbourne\nSun 3rd May 10am-4pm Eastern Suburbs Sydney\nSat 6th June 10-4pm Fitzroy Melbourne\nSun 7th June 10am-4pm Eastern Suburbs Sydney
URL:https://thebroadplace.com.au/event/future-appreciation-level-one-the-1-practice/
ATTACH;FMTTYPE=image/png:https://thebroadplace.com.au/wp-content/uploads/2026/01/Event-Listing-Icons-4.png
END:VEVENT
BEGIN:VEVENT
DTSTART;TZID=Australia/Sydney:20260124T090000
DTEND;TZID=Australia/Sydney:20260124T110000
DTSTAMP:20260420T124659
CREATED:20260108T225000Z
LAST-MODIFIED:20260108T225000Z
UID:10000022-1769245200-1769252400@thebroadplace.com.au
SUMMARY:A New Year's Masterclass 2026
DESCRIPTION:Join Jac Lewis for a process to set yourself up for a year of alignment in 2026.
URL:https://thebroadplace.com.au/event/a-new-years-masterclass-2026-2/
ATTACH;FMTTYPE=image/png:https://thebroadplace.com.au/wp-content/uploads/2026/01/Event-Listing-Icons-1-1.png
END:VEVENT
BEGIN:VEVENT
DTSTART;TZID=Australia/Sydney:20260122T180000
DTEND;TZID=Australia/Sydney:20260122T200000
DTSTAMP:20260420T124700
CREATED:20260108T224754Z
LAST-MODIFIED:20260108T224754Z
UID:10000021-1769104800-1769112000@thebroadplace.com.au
SUMMARY:A New Year's Masterclass 2026
DESCRIPTION:Join Jac Lewis for a process to set yourself up for a year of alignment in 2026.
URL:https://thebroadplace.com.au/event/a-new-years-masterclass-2026/
ATTACH;FMTTYPE=image/png:https://thebroadplace.com.au/wp-content/uploads/2026/01/Event-Listing-Icons-1.png
END:VEVENT
BEGIN:VEVENT
DTSTART;TZID=Australia/Sydney:20260121T180000
DTEND;TZID=Australia/Sydney:20260121T184500
DTSTAMP:20260420T124700
CREATED:20251002T051137Z
LAST-MODIFIED:20260115T031042Z
UID:10000009-1769018400-1769021100@thebroadplace.com.au
SUMMARY:Integrated Meditation Monthly Live Community Call
DESCRIPTION:Once you‘ve learned Integrated Meditation from us\, you’ll receive ongoing support plus the ability to resit the course as a complimentary gift. This is a lifelong practice\, and we’re here to support you every step of the way\, alongside a like-minded community.
URL:https://thebroadplace.com.au/event/integrated-meditation-monthly-live-community-call/
ATTACH;FMTTYPE=image/png:https://thebroadplace.com.au/wp-content/uploads/2025/10/Event-Listing-Icons-1.png
END:VEVENT
BEGIN:VEVENT
DTSTART;TZID=Australia/Sydney:20260121T170000
DTEND;TZID=Australia/Sydney:20260121T174500
DTSTAMP:20260420T124700
CREATED:20251002T052415Z
LAST-MODIFIED:20260115T031115Z
UID:10000010-1769014800-1769017500@thebroadplace.com.au
SUMMARY:The Portal Membership Monthly Live Call
DESCRIPTION:Welcome to The Broad Place Portal—your all-in-one destination for transformative meditation practices\, inspiring courses\, and live community connections.
URL:https://thebroadplace.com.au/event/the-portal-membership-monthly-live-call/
ATTACH;FMTTYPE=image/png:https://thebroadplace.com.au/wp-content/uploads/2025/10/Event-Listing-Icons-4.png
END:VEVENT
BEGIN:VEVENT
DTSTART;TZID=Australia/Sydney:20260113T140000
DTEND;TZID=Australia/Sydney:20260115T180000
DTSTAMP:20260420T124700
CREATED:20251209T033305Z
LAST-MODIFIED:20251209T033305Z
UID:10000017-1768312800-1768500000@thebroadplace.com.au
SUMMARY:Integrated Meditation Course on Jan 13th - 15th\, 2026 (ONLINE)
DESCRIPTION:
URL:https://thebroadplace.com.au/event/integrated-meditation-course-on-jan-13th-15th-2026-online/
ATTACH;FMTTYPE=image/png:https://thebroadplace.com.au/wp-content/uploads/2025/09/Event-Listing-Icons-3.png
END:VEVENT
END:VCALENDAR